BEGIN:VCALENDAR
VERSION:1.0
PRODID:Open2CKalenderExportV11
BEGIN:VEVENT
DTSTAMP:20230503T113009Z
DTSTART:20230513T000000Z
DTEND:20230514T000000Z
CATEGORIES:Feste
SUMMARY:Maifest
DESCRIPTION: | Organisator   Markt Teisnach
LOCATION:Rathausvorplatz
UID:c0cfb42681790ba912e30ab554b3b5c2-30d191ea8c56fa77b01b9f83f1b62fdf
PRIORITY:3
END:VEVENT
END:VCALENDAR
