BEGIN:VCALENDAR
VERSION:1.0
PRODID:Open2CKalenderExportV11
BEGIN:VEVENT
DTSTAMP:20240111T135525Z
DTSTART:20240120T190000Z
DTEND:20240120T190000Z
CATEGORIES:Fasching
SUMMARY:Kappenabend
DESCRIPTION: | Organisator   Wald-Verein Teisnach
LOCATION:Gasthaus Gierl, Kammersdorf, Geiersthal
UID:de70e66345979929bb58997962648a52-ed20a7ae31d3ede85ad5f3db932993ed
PRIORITY:3
END:VEVENT
END:VCALENDAR
