BEGIN:VCALENDAR
VERSION:1.0
PRODID:Open2CKalenderExportV11
BEGIN:VEVENT
DTSTAMP:20260114T130659Z
DTSTART:20261224T000000Z
DTEND:20261224T000000Z
CATEGORIES:Vereine
SUMMARY:Ausgabe Friedenslicht
DESCRIPTION: | Organisator   FFW Arnetsried
LOCATION:Feuerwehrgerätehaus in Arnetsried
UID:1bd00a2f672ab945f010b43be8823974-b34d7a9e93947fc31687b05b776cfc0f
PRIORITY:3
END:VEVENT
END:VCALENDAR
