BEGIN:VCALENDAR
VERSION:1.0
PRODID:Open2CKalenderExportV11
BEGIN:VEVENT
DTSTAMP:20260114T131229Z
DTSTART:20261209T000000Z
DTEND:20261209T000000Z
CATEGORIES:Vereine
SUMMARY:Adventfeier des Senioren-Treff Teisnach
DESCRIPTION: | Organisator   Senioren-Treff Teisnach
LOCATION:Pfarrheim Teisnach, Am Gstadthof 8, 94244 Teisnach
UID:1c5ba33ebb265fe2917d0d971a955b02-0d047c127784fbedeba0a43e69a1bb09
PRIORITY:3
END:VEVENT
END:VCALENDAR
