BEGIN:VCALENDAR
VERSION:1.0
PRODID:Open2CKalenderExportV11
BEGIN:VEVENT
DTSTAMP:20260114T131542Z
DTSTART:20261205T000000Z
DTEND:20261205T000000Z
CATEGORIES:Vereine
SUMMARY:Jahreshauptversammlung mit Weihnachtsfeier der Kaikenrieder Sportschützen
DESCRIPTION: | Organisator   Kaikenrieder Sportschützen
LOCATION:Gasthaus Danzer in Kaikenried
UID:fd36212fa73f373cd5fa09d39e63feb1-a91dc4b401f4d5bfbcf67ce668c03a69
PRIORITY:3
END:VEVENT
END:VCALENDAR
