BEGIN:VCALENDAR
VERSION:1.0
PRODID:Open2CKalenderExportV11
BEGIN:VEVENT
DTSTAMP:20260114T131641Z
DTSTART:20261204T000000Z
DTEND:20261204T000000Z
CATEGORIES:Vereine
SUMMARY:Jahreshauptversammlung der FFW Sohl
DESCRIPTION: | Organisator   FFW Sohl
LOCATION:Gasthaus Unterer Wirt in Sohl
UID:5948c894f75e0642cff39c3896406dae-5af7c1261881b0a2ba0974eabfa0fa8e
PRIORITY:3
END:VEVENT
END:VCALENDAR
