BEGIN:VCALENDAR
VERSION:1.0
PRODID:Open2CKalenderExportV11
BEGIN:VEVENT
DTSTAMP:20260114T132239Z
DTSTART:20261121T000000Z
DTEND:20261121T000000Z
CATEGORIES:Vereine
SUMMARY:Kameradschaftsabend der FFW Kaikenried
DESCRIPTION: | Organisator   FFW Kaikenried
LOCATION:Gasthaus Danzer in Kaikenried
UID:212d3e8d483fd45a56f8e5ab154c496b-c12e38e453d85cf4346faa1d4602586f
PRIORITY:3
END:VEVENT
END:VCALENDAR
