BEGIN:VCALENDAR
VERSION:1.0
PRODID:Open2CKalenderExportV11
BEGIN:VEVENT
DTSTAMP:20260114T132849Z
DTSTART:20261118T000000Z
DTEND:20261118T000000Z
CATEGORIES:Vereine
SUMMARY:Abschlussgottesdienst in der Wallfahrtskirche Pilgramsberg
DESCRIPTION: | Organisator   Senioren-Treff Teisnach
LOCATION:Pilgramsberg
UID:386c320f327eb7efcb0a38ea6a8b2520-eeced74e794651c7073441e9ec26f059
PRIORITY:3
END:VEVENT
END:VCALENDAR
