BEGIN:VCALENDAR
VERSION:1.0
PRODID:Open2CKalenderExportV11
BEGIN:VEVENT
DTSTAMP:20260114T133433Z
DTSTART:20261114T000000Z
DTEND:20261114T000000Z
CATEGORIES:Theater
SUMMARY:Theateraufführung der Heimatbühne Kaikenried
DESCRIPTION: | Organisator   Heimatbühne Kaikenried
LOCATION:Technologiecampus Teisnach
UID:b7a7ee47ae4c9c8ad30d9a1b83a07c08-b72fdcb1cca32623119bd0aa05b413fe
PRIORITY:3
END:VEVENT
END:VCALENDAR
