BEGIN:VCALENDAR
VERSION:2.0
PRODID:< http://www.open2c.de/ >
METHOD:PUBLISH
X-PUBLISHED-TTL:PT12H
BEGIN:VEVENT
CREATED:20231109T091242Z
LAST-MODIFIED:20240111T135525Z
ORGANIZER;CN="Wald-Verein Teisnach"
DTSTAMP:20260420T201605Z
DTSTART;VALUE=DATE:20240120
CATEGORIES:Fasching
SUMMARY:Kappenabend
DESCRIPTION:Organisator Wald-Verein Teisnach
LOCATION:Gasthaus Gierl\, Kammersdorf\, Geiersthal
UID:f3212925e1cb807e321aa9d34b6b8fcb@249206420ecf055a101c280186f12e75
END:VEVENT
END:VCALENDAR