BEGIN:VCALENDAR
VERSION:2.0
PRODID:< http://www.open2c.de/ >
METHOD:PUBLISH
X-PUBLISHED-TTL:PT12H
BEGIN:VEVENT
CREATED:20260114T050616Z
LAST-MODIFIED:20260114T130659Z
ORGANIZER;CN="FFW Arnetsried"
DTSTAMP:20260423T183724Z
DTSTART;VALUE=DATE:20261224
CATEGORIES:Vereine
SUMMARY:Ausgabe Friedenslicht
DESCRIPTION:Organisator FFW Arnetsried
LOCATION:Feuerwehrgerätehaus in Arnetsried
UID:b65c98664fe4c39835f54bd57ba5bc8e@249206420ecf055a101c280186f12e75
END:VEVENT
END:VCALENDAR