BEGIN:VCALENDAR
VERSION:2.0
PRODID:< http://www.open2c.de/ >
METHOD:PUBLISH
X-PUBLISHED-TTL:PT12H
BEGIN:VEVENT
CREATED:20260114T051137Z
LAST-MODIFIED:20260114T131229Z
ORGANIZER;CN="Senioren-Treff Teisnach"
DTSTAMP:20260423T183302Z
DTSTART;VALUE=DATE:20261209
CATEGORIES:Vereine
SUMMARY:Adventfeier des Senioren-Treff Teisnach
DESCRIPTION:Organisator Senioren-Treff Teisnach
LOCATION:Pfarrheim Teisnach\, Am Gstadthof 8\, 94244 Teisnach
UID:56828600d952cf8d21e6ed40b24a0fd5@249206420ecf055a101c280186f12e75
END:VEVENT
END:VCALENDAR