BEGIN:VCALENDAR
VERSION:2.0
PRODID:< http://www.open2c.de/ >
METHOD:PUBLISH
X-PUBLISHED-TTL:PT12H
BEGIN:VEVENT
CREATED:20260114T051245Z
LAST-MODIFIED:20260114T131437Z
ORGANIZER;CN="FFW Arnetsried"
DTSTAMP:20260423T164029Z
DTSTART;VALUE=DATE:20261205
CATEGORIES:Vereine
SUMMARY:Christbaumversteigerung der FFW Arnetsried
DESCRIPTION:Organisator FFW Arnetsried
LOCATION:Gasthaus Geiger in Arnetsried
UID:9548f63570428571233eec675297cce5@249206420ecf055a101c280186f12e75
END:VEVENT
END:VCALENDAR