BEGIN:VCALENDAR
VERSION:2.0
PRODID:< http://www.open2c.de/ >
METHOD:PUBLISH
X-PUBLISHED-TTL:PT12H
BEGIN:VEVENT
CREATED:20260114T051454Z
LAST-MODIFIED:20260114T131542Z
ORGANIZER;CN="Kaikenrieder Sportschützen"
DTSTAMP:20260423T164011Z
DTSTART;VALUE=DATE:20261205
CATEGORIES:Vereine
SUMMARY:Jahreshauptversammlung mit Weihnachtsfeier der Kaikenrieder Sportschützen
DESCRIPTION:Organisator Kaikenrieder Sportschützen
LOCATION:Gasthaus Danzer in Kaikenried
UID:424686c2fd43e8d7e29b5b57fdabfcaf@249206420ecf055a101c280186f12e75
END:VEVENT
END:VCALENDAR