BEGIN:VCALENDAR
VERSION:2.0
PRODID:< http://www.open2c.de/ >
METHOD:PUBLISH
X-PUBLISHED-TTL:PT12H
BEGIN:VEVENT
CREATED:20260114T051555Z
LAST-MODIFIED:20260114T131641Z
ORGANIZER;CN="FFW Sohl"
DTSTAMP:20260423T164019Z
DTSTART;VALUE=DATE:20261204
CATEGORIES:Vereine
SUMMARY:Jahreshauptversammlung der FFW Sohl
DESCRIPTION:Organisator FFW Sohl
LOCATION:Gasthaus Unterer Wirt in Sohl
UID:d5ea5844f354d4c5caffffc4b4e9ba4d@249206420ecf055a101c280186f12e75
END:VEVENT
END:VCALENDAR