BEGIN:VCALENDAR
VERSION:2.0
PRODID:< http://www.open2c.de/ >
METHOD:PUBLISH
X-PUBLISHED-TTL:PT12H
BEGIN:VEVENT
CREATED:20260114T051845Z
LAST-MODIFIED:20260114T132105Z
ORGANIZER;CN="Markt Teisnach":MAILTO:Markt Teisnach\, 09923 80110\, poststelle@teisnach.de
DTSTAMP:20260423T163853Z
DTSTART:20261128T000000Z
DTEND:20261129T000000Z
CATEGORIES:Märkte
SUMMARY:Teisnacher Kirchenadventmarkt
DESCRIPTION: (Programm folgt) Organisator Markt Teisnach Kontakt Markt Teis
	nach\, 09923 80110\, poststelle@teisnach.de
LOCATION:Kirchenvorplatz in Teisnach
UID:28ac41920e10e83e6a4d484ec40ffd2b@249206420ecf055a101c280186f12e75
END:VEVENT
END:VCALENDAR