BEGIN:VCALENDAR
VERSION:2.0
PRODID:< http://www.open2c.de/ >
METHOD:PUBLISH
X-PUBLISHED-TTL:PT12H
BEGIN:VEVENT
CREATED:20260114T052115Z
LAST-MODIFIED:20260114T132239Z
ORGANIZER;CN="FFW Kaikenried"
DTSTAMP:20260423T163853Z
DTSTART;VALUE=DATE:20261121
CATEGORIES:Vereine
SUMMARY:Kameradschaftsabend der FFW Kaikenried
DESCRIPTION:Organisator FFW Kaikenried
LOCATION:Gasthaus Danzer in Kaikenried
UID:b7bc7d0af46746feb9428a34e63b24c4@249206420ecf055a101c280186f12e75
END:VEVENT
END:VCALENDAR