BEGIN:VCALENDAR
VERSION:2.0
PRODID:< http://www.open2c.de/ >
METHOD:PUBLISH
X-PUBLISHED-TTL:PT12H
BEGIN:VEVENT
CREATED:20260114T052753Z
LAST-MODIFIED:20260114T132849Z
ORGANIZER;CN="Senioren-Treff Teisnach"
DTSTAMP:20260423T163846Z
DTSTART;VALUE=DATE:20261118
CATEGORIES:Vereine
SUMMARY:Abschlussgottesdienst in der Wallfahrtskirche Pilgramsberg
DESCRIPTION:Organisator Senioren-Treff Teisnach
LOCATION:Pilgramsberg
UID:d80cc626d987221d05e73267d6fdef10@249206420ecf055a101c280186f12e75
END:VEVENT
END:VCALENDAR