BEGIN:VCALENDAR
VERSION:2.0
PRODID:< http://www.open2c.de/ >
METHOD:PUBLISH
X-PUBLISHED-TTL:PT12H
BEGIN:VEVENT
CREATED:20260114T052952Z
LAST-MODIFIED:20260114T133433Z
ORGANIZER;CN="Heimatbühne Kaikenried"
DTSTAMP:20260423T163846Z
DTSTART;VALUE=DATE:20261114
CATEGORIES:Theater
SUMMARY:Theateraufführung der Heimatbühne Kaikenried
DESCRIPTION:Organisator Heimatbühne Kaikenried
LOCATION:Technologiecampus Teisnach
UID:5fbb21827590234188e4466ae83da256@249206420ecf055a101c280186f12e75
END:VEVENT
END:VCALENDAR